BEGIN:VCALENDAR
VERSION:2.0
PRODID:-//Auntie Bec&#039;s Boutique - ECPv6.15.20//NONSGML v1.0//EN
CALSCALE:GREGORIAN
METHOD:PUBLISH
X-WR-CALNAME:Auntie Bec&#039;s Boutique
X-ORIGINAL-URL:https://auntiebecsboutique.com
X-WR-CALDESC:Events for Auntie Bec&#039;s Boutique
REFRESH-INTERVAL;VALUE=DURATION:PT1H
X-Robots-Tag:noindex
X-PUBLISHED-TTL:PT1H
BEGIN:VTIMEZONE
TZID:UTC
BEGIN:STANDARD
TZOFFSETFROM:+0000
TZOFFSETTO:+0000
TZNAME:UTC
DTSTART:20230101T000000
END:STANDARD
END:VTIMEZONE
BEGIN:VEVENT
DTSTART;TZID=UTC:20260404T120000
DTEND;TZID=UTC:20260404T160000
DTSTAMP:20260419T162945
CREATED:20260324T221451Z
LAST-MODIFIED:20260324T221451Z
UID:3206-1775304000-1775318400@auntiebecsboutique.com
SUMMARY:Prom Event
DESCRIPTION:Auntie Bec’s Boutique doors will be open to youth who are looking for new or gently used\, on trend\, prom attire. \nApril 4 and april 11\n12pm – 4pm \nDresses!\nDress shirts! Dress Pants!\nJewelry! Shoes!\n\n\nYou can just show up or\nReach out to us for more questions
URL:https://auntiebecsboutique.com/event/prom-event/
LOCATION:Auntie Bec’s Boutique\, 1450 Energy Park Drive\, Suite 10-12 (Lower Level)\, St. Paul\, MN\, 55108\, United States
ORGANIZER;CN="Auntie Bec's":MAILTO:auntiebecsboutique@gmail.com
END:VEVENT
BEGIN:VEVENT
DTSTART;TZID=UTC:20250925T170000
DTEND;TZID=UTC:20250925T200000
DTSTAMP:20260419T162945
CREATED:20250722T110916Z
LAST-MODIFIED:20250722T110916Z
UID:2387-1758819600-1758830400@auntiebecsboutique.com
SUMMARY:Open House
DESCRIPTION:Auntie Bec’s Boutique is holding an Open House! \nCome visit and check out our new space on September 25. \nMore information to come!
URL:https://auntiebecsboutique.com/event/open-house/
LOCATION:Auntie Bec’s Boutique\, 1450 Energy Park Drive\, Suite 10-12 (Lower Level)\, St. Paul\, MN\, 55108\, United States
END:VEVENT
BEGIN:VEVENT
DTSTART;TZID=UTC:20250925T120000
DTEND;TZID=UTC:20250925T150000
DTSTAMP:20260419T162945
CREATED:20250722T110812Z
LAST-MODIFIED:20250722T110812Z
UID:2385-1758801600-1758812400@auntiebecsboutique.com
SUMMARY:Open House
DESCRIPTION:Auntie Bec’s Boutique is holding an Open House! \nCome visit and check out our new space on September 25. \nMore information to come!
URL:https://auntiebecsboutique.com/event/open-house1/
LOCATION:Auntie Bec’s Boutique\, 1450 Energy Park Drive\, Suite 10-12 (Lower Level)\, St. Paul\, MN\, 55108\, United States
END:VEVENT
BEGIN:VEVENT
DTSTART;TZID=UTC:20250823T090000
DTEND;TZID=UTC:20250823T170000
DTSTAMP:20260419T162945
CREATED:20250722T105957Z
LAST-MODIFIED:20250722T105957Z
UID:2383-1755939600-1755968400@auntiebecsboutique.com
SUMMARY:Back to School Shopping Days
DESCRIPTION:On Thursday\, August 21 and Saturday\, August 23\, ABB’s is holding special Back to School days of shopping. Get a hold of us now to make an appointment! \nEmail us at auntiebecsboutique@gmail.com or call us at (612) 327-0991 to schedule your shopping time!
URL:https://auntiebecsboutique.com/event/back-to-school-shopping-days-4/
LOCATION:Auntie Bec’s Boutique\, 1450 Energy Park Drive\, Suite 10-12 (Lower Level)\, St. Paul\, MN\, 55108\, United States
END:VEVENT
BEGIN:VEVENT
DTSTART;TZID=UTC:20250821T090000
DTEND;TZID=UTC:20250821T170000
DTSTAMP:20260419T162945
CREATED:20250722T105915Z
LAST-MODIFIED:20250722T105915Z
UID:2374-1755766800-1755795600@auntiebecsboutique.com
SUMMARY:Back to School Shopping Days
DESCRIPTION:On Thursday\, August 21 and Saturday\, August 23\, ABB’s is holding special Back to School days of shopping. Get a hold of us now to make an appointment! \nEmail us at auntiebecsboutique@gmail.com or call us at (612) 327-0991 to schedule your shopping time!
URL:https://auntiebecsboutique.com/event/back-to-school-shopping-days-3/
LOCATION:Auntie Bec’s Boutique\, 1450 Energy Park Drive\, Suite 10-12 (Lower Level)\, St. Paul\, MN\, 55108\, United States
END:VEVENT
BEGIN:VEVENT
DTSTART;TZID=UTC:20240822T090000
DTEND;TZID=UTC:20240822T170000
DTSTAMP:20260419T162945
CREATED:20240807T104824Z
LAST-MODIFIED:20240807T104824Z
UID:1340-1724317200-1724346000@auntiebecsboutique.com
SUMMARY:Back to School Shopping Days
DESCRIPTION:On Friday\, August 16 and Thursday\, August 22\, ABB’s is holding special Back to School days of shopping. Get a hold of us now to make an appointment! \nEmail us at auntiebecsboutique@gmail.com or call us at (612) 327-0991 to schedule your shopping time!
URL:https://auntiebecsboutique.com/event/back-to-school-shopping-days-2/
LOCATION:Auntie Bec’s Boutique\, 1450 Energy Park Drive\, Suite 10-12 (Lower Level)\, St. Paul\, MN\, 55108\, United States
END:VEVENT
BEGIN:VEVENT
DTSTART;TZID=UTC:20240816T090000
DTEND;TZID=UTC:20240816T170000
DTSTAMP:20260419T162945
CREATED:20240807T104629Z
LAST-MODIFIED:20240807T104943Z
UID:1324-1723798800-1723827600@auntiebecsboutique.com
SUMMARY:Back to School Shopping Days
DESCRIPTION:On Friday\, August 16 and Thursday\, August 22\, ABB’s is holding special Back to School days of shopping. Get a hold of us now to make an appointment! \nEmail us at auntiebecsboutique@gmail.com or call us at (612) 327-0991 to schedule your shopping time!
URL:https://auntiebecsboutique.com/event/back-to-school-shopping-days/
LOCATION:Auntie Bec’s Boutique\, 1450 Energy Park Drive\, Suite 10-12 (Lower Level)\, St. Paul\, MN\, 55108\, United States
END:VEVENT
BEGIN:VEVENT
DTSTART;TZID=UTC:20240413T120000
DTEND;TZID=UTC:20240413T160000
DTSTAMP:20260419T162945
CREATED:20240318T121138Z
LAST-MODIFIED:20240318T121138Z
UID:980-1713009600-1713024000@auntiebecsboutique.com
SUMMARY:Open House Prom Event
DESCRIPTION:On April 6th and April 13th ABB’s doors will be open to youth who are looking for new and/or gently used\, on trend prom attire\, such as dresses\, dress shirts & pants\, jewelry\, and shoes!!!!
URL:https://auntiebecsboutique.com/event/open-house-prom-event-2/
LOCATION:Auntie Bec’s Boutique\, 1450 Energy Park Drive\, Suite 10-12 (Lower Level)\, St. Paul\, MN\, 55108\, United States
END:VEVENT
BEGIN:VEVENT
DTSTART;TZID=UTC:20240406T120000
DTEND;TZID=UTC:20240406T160000
DTSTAMP:20260419T162945
CREATED:20240318T120714Z
LAST-MODIFIED:20240318T121440Z
UID:976-1712404800-1712419200@auntiebecsboutique.com
SUMMARY:Open House Prom Event
DESCRIPTION:On April 6th and April 13th ABB’s doors will be open to youth who are looking for new and/or gently used\, on trend prom attire\, such as dresses\, dress shirts & pants\, jewelry\, and shoes!!!!
URL:https://auntiebecsboutique.com/event/open-house-prom-event/
LOCATION:Auntie Bec’s Boutique\, 1450 Energy Park Drive\, Suite 10-12 (Lower Level)\, St. Paul\, MN\, 55108\, United States
END:VEVENT
END:VCALENDAR